BEGIN:VCALENDAR
VERSION:2.0
PRODID:-//Radiant Church - ECPv6.15.17//NONSGML v1.0//EN
CALSCALE:GREGORIAN
METHOD:PUBLISH
X-WR-CALNAME:Radiant Church
X-ORIGINAL-URL:https://weareradiant.com
X-WR-CALDESC:Events for Radiant Church
REFRESH-INTERVAL;VALUE=DURATION:PT1H
X-Robots-Tag:noindex
X-PUBLISHED-TTL:PT1H
BEGIN:VTIMEZONE
TZID:America/New_York
BEGIN:DAYLIGHT
TZOFFSETFROM:-0500
TZOFFSETTO:-0400
TZNAME:EDT
DTSTART:20250309T070000
END:DAYLIGHT
BEGIN:STANDARD
TZOFFSETFROM:-0400
TZOFFSETTO:-0500
TZNAME:EST
DTSTART:20251102T060000
END:STANDARD
BEGIN:DAYLIGHT
TZOFFSETFROM:-0500
TZOFFSETTO:-0400
TZNAME:EDT
DTSTART:20260308T070000
END:DAYLIGHT
BEGIN:STANDARD
TZOFFSETFROM:-0400
TZOFFSETTO:-0500
TZNAME:EST
DTSTART:20261101T060000
END:STANDARD
BEGIN:DAYLIGHT
TZOFFSETFROM:-0500
TZOFFSETTO:-0400
TZNAME:EDT
DTSTART:20270314T070000
END:DAYLIGHT
BEGIN:STANDARD
TZOFFSETFROM:-0400
TZOFFSETTO:-0500
TZNAME:EST
DTSTART:20271107T060000
END:STANDARD
END:VTIMEZONE
BEGIN:VEVENT
DTSTART;TZID=America/New_York:20260506T183000
DTEND;TZID=America/New_York:20260506T203000
DTSTAMP:20260423T062517
CREATED:20260226T152858Z
LAST-MODIFIED:20260226T152858Z
UID:10003056-1778092200-1778099400@weareradiant.com
SUMMARY:YTH Regional Night
DESCRIPTION:Every first Wednesday night of the month\, students from across Tampy Bay gather for Regional YTH Night.\nThis is a space designed just for middle and high school students to grow in their faith\, build real friendships\, and discover who God has called them to be.\nEach week includes powerful worship\, a relevant and life-giving message\, small group conversations\, and plenty of fun. Students are placed in groups by age and grade\, creating an environment where they can ask honest questions\, be encouraged\, and find authentic community. Radiant YTH is more than a midweek service. It is a movement of students learning to follow Jesus boldly in their schools\, homes\, and friendships.\nYTH Regional Night happens at our South Tampa\, Brandon\, Hillsborough\, Odessa\, and West St. Pete locations at 6:30pm.
URL:https://weareradiant.com/event/yth-regional-night/2026-05-06
LOCATION:South Tampa\, 3938 S Dale Mabry Hwy\, Tampa\, FL\, 33611\, United States
CATEGORIES:Radiant YTH
ATTACH;FMTTYPE=image/webp:https://weareradiant.com/wp-content/uploads/2026/02/SZN-1-Announcement-Regional-Night-Announcement-Fs-copy.webp
ORGANIZER;CN="Radiant YTH":MAILTO:students@weareradiant.com
END:VEVENT
BEGIN:VEVENT
DTSTART;TZID=America/New_York:20260521T190000
DTEND;TZID=America/New_York:20260521T210000
DTSTAMP:20260423T062517
CREATED:20251123T064822Z
LAST-MODIFIED:20260223T212553Z
UID:10000474-1779390000-1779397200@weareradiant.com
SUMMARY:RYA Night
DESCRIPTION:If you are a young adult – single or married – in the age range of 18-30yrs old\, then come and join us!  We gather each month on the third Thursday of the month. It is going to be a special night where we gather young adults from all locations and worship the name of Jesus! Come find Jesus and community.
URL:https://weareradiant.com/event/rya-night-3-2-2-2/2026-05-21
LOCATION:South Tampa\, 3938 S Dale Mabry Hwy\, Tampa\, FL\, 33611\, United States
CATEGORIES:Radiant Young Adults
ATTACH;FMTTYPE=image/webp:https://weareradiant.com/wp-content/uploads/2023/08/TinyPNG-RYA-Nights.webp
END:VEVENT
BEGIN:VEVENT
DTSTART;TZID=America/New_York:20260801T080000
DTEND;TZID=America/New_York:20260801T150000
DTSTAMP:20260423T062517
CREATED:20260416T165204Z
LAST-MODIFIED:20260419T075844Z
UID:10003124-1785571200-1785596400@weareradiant.com
SUMMARY:Marriage Summit
DESCRIPTION:A one-day experience designed to help you build a healthier\, stronger\, Christ-centered marriage. Spend intentional time growing closer to each other and to God\, with practical teaching\, honest conversations\, and moments that will strengthen your foundation. Learn more here.
URL:https://weareradiant.com/event/marriage-summit
LOCATION:Hillsborough\, 1510 W Hillsborough Ave\, Tampa\, 33603\, United States
CATEGORIES:Central,Show in Homepage
ATTACH;FMTTYPE=image/webp:https://weareradiant.com/wp-content/uploads/2026/04/Marriage-Summit-2026-Fs-Bail-copy.webp
END:VEVENT
END:VCALENDAR