BEGIN:VCALENDAR
VERSION:2.0
PRODID:-//Radiant Church - ECPv6.15.17//NONSGML v1.0//EN
CALSCALE:GREGORIAN
METHOD:PUBLISH
X-WR-CALNAME:Radiant Church
X-ORIGINAL-URL:https://weareradiant.com
X-WR-CALDESC:Events for Radiant Church
REFRESH-INTERVAL;VALUE=DURATION:PT1H
X-Robots-Tag:noindex
X-PUBLISHED-TTL:PT1H
BEGIN:VTIMEZONE
TZID:America/New_York
BEGIN:DAYLIGHT
TZOFFSETFROM:-0500
TZOFFSETTO:-0400
TZNAME:EDT
DTSTART:20250309T070000
END:DAYLIGHT
BEGIN:STANDARD
TZOFFSETFROM:-0400
TZOFFSETTO:-0500
TZNAME:EST
DTSTART:20251102T060000
END:STANDARD
BEGIN:DAYLIGHT
TZOFFSETFROM:-0500
TZOFFSETTO:-0400
TZNAME:EDT
DTSTART:20260308T070000
END:DAYLIGHT
BEGIN:STANDARD
TZOFFSETFROM:-0400
TZOFFSETTO:-0500
TZNAME:EST
DTSTART:20261101T060000
END:STANDARD
BEGIN:DAYLIGHT
TZOFFSETFROM:-0500
TZOFFSETTO:-0400
TZNAME:EDT
DTSTART:20270314T070000
END:DAYLIGHT
BEGIN:STANDARD
TZOFFSETFROM:-0400
TZOFFSETTO:-0500
TZNAME:EST
DTSTART:20271107T060000
END:STANDARD
END:VTIMEZONE
BEGIN:VEVENT
DTSTART;TZID=America/New_York:20260521T190000
DTEND;TZID=America/New_York:20260521T210000
DTSTAMP:20260423T081535
CREATED:20251123T064822Z
LAST-MODIFIED:20260223T212553Z
UID:10000474-1779390000-1779397200@weareradiant.com
SUMMARY:RYA Night
DESCRIPTION:If you are a young adult – single or married – in the age range of 18-30yrs old\, then come and join us!  We gather each month on the third Thursday of the month. It is going to be a special night where we gather young adults from all locations and worship the name of Jesus! Come find Jesus and community.
URL:https://weareradiant.com/event/rya-night-3-2-2-2/2026-05-21
LOCATION:South Tampa\, 3938 S Dale Mabry Hwy\, Tampa\, FL\, 33611\, United States
CATEGORIES:Radiant Young Adults
ATTACH;FMTTYPE=image/webp:https://weareradiant.com/wp-content/uploads/2023/08/TinyPNG-RYA-Nights.webp
END:VEVENT
END:VCALENDAR