BEGIN:VCALENDAR
VERSION:2.0
PRODID:-//Radiant Church - ECPv6.15.17//NONSGML v1.0//EN
CALSCALE:GREGORIAN
METHOD:PUBLISH
X-ORIGINAL-URL:https://weareradiant.com
X-WR-CALDESC:Events for Radiant Church
REFRESH-INTERVAL;VALUE=DURATION:PT1H
X-Robots-Tag:noindex
X-PUBLISHED-TTL:PT1H
BEGIN:VTIMEZONE
TZID:America/New_York
BEGIN:DAYLIGHT
TZOFFSETFROM:-0500
TZOFFSETTO:-0400
TZNAME:EDT
DTSTART:20250309T070000
END:DAYLIGHT
BEGIN:STANDARD
TZOFFSETFROM:-0400
TZOFFSETTO:-0500
TZNAME:EST
DTSTART:20251102T060000
END:STANDARD
BEGIN:DAYLIGHT
TZOFFSETFROM:-0500
TZOFFSETTO:-0400
TZNAME:EDT
DTSTART:20260308T070000
END:DAYLIGHT
BEGIN:STANDARD
TZOFFSETFROM:-0400
TZOFFSETTO:-0500
TZNAME:EST
DTSTART:20261101T060000
END:STANDARD
BEGIN:DAYLIGHT
TZOFFSETFROM:-0500
TZOFFSETTO:-0400
TZNAME:EDT
DTSTART:20270314T070000
END:DAYLIGHT
BEGIN:STANDARD
TZOFFSETFROM:-0400
TZOFFSETTO:-0500
TZNAME:EST
DTSTART:20271107T060000
END:STANDARD
END:VTIMEZONE
BEGIN:VEVENT
DTSTART;TZID=America/New_York:20260502T080000
DTEND;TZID=America/New_York:20260502T143000
DTSTAMP:20260423T063032
CREATED:20260120T143204Z
LAST-MODIFIED:20260324T170355Z
UID:10003027-1777708800-1777732200@weareradiant.com
SUMMARY:Women's Bible Summit
DESCRIPTION:Join us for a day centered on God’s Word with Bible teacher Caroline Saunders. This teaching-focused gathering is designed to help women grow in their understanding of Scripture\, deepen their love for God\, and engage the Bible more thoughtfully and confidently as it shapes faith and everyday life.\nWhat’s included:\n\n 	Breakfast and lunch\n 	Powerful worship\n 	Teaching and panel discussion\n 	Time to connect with other women\n\nRegistration is currently at capacity
URL:https://weareradiant.com/event/womenssummit
LOCATION:Hillsborough\, 1510 W Hillsborough Ave\, Tampa\, 33603\, United States
CATEGORIES:Central
ATTACH;FMTTYPE=image/webp:https://weareradiant.com/wp-content/uploads/2026/01/Womens-Bible-Summit-2026-FS-Bail-copy.webp
END:VEVENT
END:VCALENDAR